BEGIN:VCALENDAR
VERSION:2.0
PRODID:-//Jubilee Street Practice - ECPv6.5.1.6//NONSGML v1.0//EN
CALSCALE:GREGORIAN
METHOD:PUBLISH
X-WR-CALNAME:Jubilee Street Practice
X-ORIGINAL-URL:https://jubileestreetpractice.nhs.uk
X-WR-CALDESC:Events for Jubilee Street Practice
REFRESH-INTERVAL;VALUE=DURATION:PT1H
X-Robots-Tag:noindex
X-PUBLISHED-TTL:PT1H
BEGIN:VTIMEZONE
TZID:Europe/London
BEGIN:DAYLIGHT
TZOFFSETFROM:+0000
TZOFFSETTO:+0100
TZNAME:BST
DTSTART:20260329T010000
END:DAYLIGHT
BEGIN:STANDARD
TZOFFSETFROM:+0100
TZOFFSETTO:+0000
TZNAME:GMT
DTSTART:20261025T010000
END:STANDARD
BEGIN:DAYLIGHT
TZOFFSETFROM:+0000
TZOFFSETTO:+0100
TZNAME:BST
DTSTART:20270328T010000
END:DAYLIGHT
BEGIN:STANDARD
TZOFFSETFROM:+0100
TZOFFSETTO:+0000
TZNAME:GMT
DTSTART:20271031T010000
END:STANDARD
END:VTIMEZONE
BEGIN:VEVENT
DTSTART;TZID=Europe/London:20261008T140000
DTEND;TZID=Europe/London:20261008T160000
DTSTAMP:20260421T165009
CREATED:20220929T143813Z
LAST-MODIFIED:20220929T143813Z
UID:11257-1791468000-1791475200@jubileestreetpractice.nhs.uk
SUMMARY:Social Hub (we connect communities hub)
DESCRIPTION:
URL:https://jubileestreetpractice.nhs.uk/event/social-hub-we-connect-communities-hub/2026-10-08/
LOCATION:Carers Centre\, Stepney Green\, 21 Brayford Square\, London\, E1 0SG
END:VEVENT
BEGIN:VEVENT
DTSTART;TZID=Europe/London:20261015T140000
DTEND;TZID=Europe/London:20261015T160000
DTSTAMP:20260421T165009
CREATED:20220929T143813Z
LAST-MODIFIED:20220929T143813Z
UID:11275-1792072800-1792080000@jubileestreetpractice.nhs.uk
SUMMARY:Social Hub (we connect communities hub)
DESCRIPTION:
URL:https://jubileestreetpractice.nhs.uk/event/social-hub-we-connect-communities-hub/2026-10-15/
LOCATION:Carers Centre\, Stepney Green\, 21 Brayford Square\, London\, E1 0SG
END:VEVENT
BEGIN:VEVENT
DTSTART;TZID=Europe/London:20261022T140000
DTEND;TZID=Europe/London:20261022T160000
DTSTAMP:20260421T165009
CREATED:20220929T143813Z
LAST-MODIFIED:20220929T143813Z
UID:11293-1792677600-1792684800@jubileestreetpractice.nhs.uk
SUMMARY:Social Hub (we connect communities hub)
DESCRIPTION:
URL:https://jubileestreetpractice.nhs.uk/event/social-hub-we-connect-communities-hub/2026-10-22/
LOCATION:Carers Centre\, Stepney Green\, 21 Brayford Square\, London\, E1 0SG
END:VEVENT
BEGIN:VEVENT
DTSTART;TZID=Europe/London:20261029T140000
DTEND;TZID=Europe/London:20261029T160000
DTSTAMP:20260421T165009
CREATED:20220929T143813Z
LAST-MODIFIED:20220929T143813Z
UID:11305-1793282400-1793289600@jubileestreetpractice.nhs.uk
SUMMARY:Social Hub (we connect communities hub)
DESCRIPTION:
URL:https://jubileestreetpractice.nhs.uk/event/social-hub-we-connect-communities-hub/2026-10-29/
LOCATION:Carers Centre\, Stepney Green\, 21 Brayford Square\, London\, E1 0SG
END:VEVENT
BEGIN:VEVENT
DTSTART;TZID=Europe/London:20261105T140000
DTEND;TZID=Europe/London:20261105T160000
DTSTAMP:20260421T165009
CREATED:20220929T143813Z
LAST-MODIFIED:20220929T143813Z
UID:11322-1793887200-1793894400@jubileestreetpractice.nhs.uk
SUMMARY:Social Hub (we connect communities hub)
DESCRIPTION:
URL:https://jubileestreetpractice.nhs.uk/event/social-hub-we-connect-communities-hub/2026-11-05/
LOCATION:Carers Centre\, Stepney Green\, 21 Brayford Square\, London\, E1 0SG
END:VEVENT
BEGIN:VEVENT
DTSTART;TZID=Europe/London:20261112T140000
DTEND;TZID=Europe/London:20261112T160000
DTSTAMP:20260421T165009
CREATED:20220929T143813Z
LAST-MODIFIED:20220929T143813Z
UID:11327-1794492000-1794499200@jubileestreetpractice.nhs.uk
SUMMARY:Social Hub (we connect communities hub)
DESCRIPTION:
URL:https://jubileestreetpractice.nhs.uk/event/social-hub-we-connect-communities-hub/2026-11-12/
LOCATION:Carers Centre\, Stepney Green\, 21 Brayford Square\, London\, E1 0SG
END:VEVENT
BEGIN:VEVENT
DTSTART;TZID=Europe/London:20261119T140000
DTEND;TZID=Europe/London:20261119T160000
DTSTAMP:20260421T165009
CREATED:20220929T143813Z
LAST-MODIFIED:20220929T143813Z
UID:11373-1795096800-1795104000@jubileestreetpractice.nhs.uk
SUMMARY:Social Hub (we connect communities hub)
DESCRIPTION:
URL:https://jubileestreetpractice.nhs.uk/event/social-hub-we-connect-communities-hub/2026-11-19/
LOCATION:Carers Centre\, Stepney Green\, 21 Brayford Square\, London\, E1 0SG
END:VEVENT
BEGIN:VEVENT
DTSTART;TZID=Europe/London:20261126T140000
DTEND;TZID=Europe/London:20261126T160000
DTSTAMP:20260421T165009
CREATED:20220929T143813Z
LAST-MODIFIED:20220929T143813Z
UID:11395-1795701600-1795708800@jubileestreetpractice.nhs.uk
SUMMARY:Social Hub (we connect communities hub)
DESCRIPTION:
URL:https://jubileestreetpractice.nhs.uk/event/social-hub-we-connect-communities-hub/2026-11-26/
LOCATION:Carers Centre\, Stepney Green\, 21 Brayford Square\, London\, E1 0SG
END:VEVENT
BEGIN:VEVENT
DTSTART;TZID=Europe/London:20261203T140000
DTEND;TZID=Europe/London:20261203T160000
DTSTAMP:20260421T165009
CREATED:20220929T143813Z
LAST-MODIFIED:20220929T143813Z
UID:11431-1796306400-1796313600@jubileestreetpractice.nhs.uk
SUMMARY:Social Hub (we connect communities hub)
DESCRIPTION:
URL:https://jubileestreetpractice.nhs.uk/event/social-hub-we-connect-communities-hub/2026-12-03/
LOCATION:Carers Centre\, Stepney Green\, 21 Brayford Square\, London\, E1 0SG
END:VEVENT
BEGIN:VEVENT
DTSTART;TZID=Europe/London:20261210T140000
DTEND;TZID=Europe/London:20261210T160000
DTSTAMP:20260421T165009
CREATED:20220929T143813Z
LAST-MODIFIED:20220929T143813Z
UID:11453-1796911200-1796918400@jubileestreetpractice.nhs.uk
SUMMARY:Social Hub (we connect communities hub)
DESCRIPTION:
URL:https://jubileestreetpractice.nhs.uk/event/social-hub-we-connect-communities-hub/2026-12-10/
LOCATION:Carers Centre\, Stepney Green\, 21 Brayford Square\, London\, E1 0SG
END:VEVENT
BEGIN:VEVENT
DTSTART;TZID=Europe/London:20261217T140000
DTEND;TZID=Europe/London:20261217T160000
DTSTAMP:20260421T165009
CREATED:20220929T143813Z
LAST-MODIFIED:20220929T143813Z
UID:11457-1797516000-1797523200@jubileestreetpractice.nhs.uk
SUMMARY:Social Hub (we connect communities hub)
DESCRIPTION:
URL:https://jubileestreetpractice.nhs.uk/event/social-hub-we-connect-communities-hub/2026-12-17/
LOCATION:Carers Centre\, Stepney Green\, 21 Brayford Square\, London\, E1 0SG
END:VEVENT
BEGIN:VEVENT
DTSTART;TZID=Europe/London:20261224T140000
DTEND;TZID=Europe/London:20261224T160000
DTSTAMP:20260421T165009
CREATED:20220929T143813Z
LAST-MODIFIED:20220929T143813Z
UID:11460-1798120800-1798128000@jubileestreetpractice.nhs.uk
SUMMARY:Social Hub (we connect communities hub)
DESCRIPTION:
URL:https://jubileestreetpractice.nhs.uk/event/social-hub-we-connect-communities-hub/2026-12-24/
LOCATION:Carers Centre\, Stepney Green\, 21 Brayford Square\, London\, E1 0SG
END:VEVENT
BEGIN:VEVENT
DTSTART;TZID=Europe/London:20261231T140000
DTEND;TZID=Europe/London:20261231T160000
DTSTAMP:20260421T165009
CREATED:20220929T143813Z
LAST-MODIFIED:20220929T143813Z
UID:11465-1798725600-1798732800@jubileestreetpractice.nhs.uk
SUMMARY:Social Hub (we connect communities hub)
DESCRIPTION:
URL:https://jubileestreetpractice.nhs.uk/event/social-hub-we-connect-communities-hub/2026-12-31/
LOCATION:Carers Centre\, Stepney Green\, 21 Brayford Square\, London\, E1 0SG
END:VEVENT
BEGIN:VEVENT
DTSTART;TZID=Europe/London:20270107T140000
DTEND;TZID=Europe/London:20270107T160000
DTSTAMP:20260421T165009
CREATED:20220929T143813Z
LAST-MODIFIED:20220929T143813Z
UID:11471-1799330400-1799337600@jubileestreetpractice.nhs.uk
SUMMARY:Social Hub (we connect communities hub)
DESCRIPTION:
URL:https://jubileestreetpractice.nhs.uk/event/social-hub-we-connect-communities-hub/2027-01-07/
LOCATION:Carers Centre\, Stepney Green\, 21 Brayford Square\, London\, E1 0SG
END:VEVENT
BEGIN:VEVENT
DTSTART;TZID=Europe/London:20270114T140000
DTEND;TZID=Europe/London:20270114T160000
DTSTAMP:20260421T165009
CREATED:20220929T143813Z
LAST-MODIFIED:20220929T143813Z
UID:11479-1799935200-1799942400@jubileestreetpractice.nhs.uk
SUMMARY:Social Hub (we connect communities hub)
DESCRIPTION:
URL:https://jubileestreetpractice.nhs.uk/event/social-hub-we-connect-communities-hub/2027-01-14/
LOCATION:Carers Centre\, Stepney Green\, 21 Brayford Square\, London\, E1 0SG
END:VEVENT
BEGIN:VEVENT
DTSTART;TZID=Europe/London:20270121T140000
DTEND;TZID=Europe/London:20270121T160000
DTSTAMP:20260421T165009
CREATED:20220929T143813Z
LAST-MODIFIED:20220929T143813Z
UID:11501-1800540000-1800547200@jubileestreetpractice.nhs.uk
SUMMARY:Social Hub (we connect communities hub)
DESCRIPTION:
URL:https://jubileestreetpractice.nhs.uk/event/social-hub-we-connect-communities-hub/2027-01-21/
LOCATION:Carers Centre\, Stepney Green\, 21 Brayford Square\, London\, E1 0SG
END:VEVENT
BEGIN:VEVENT
DTSTART;TZID=Europe/London:20270128T140000
DTEND;TZID=Europe/London:20270128T160000
DTSTAMP:20260421T165009
CREATED:20220929T143813Z
LAST-MODIFIED:20220929T143813Z
UID:11516-1801144800-1801152000@jubileestreetpractice.nhs.uk
SUMMARY:Social Hub (we connect communities hub)
DESCRIPTION:
URL:https://jubileestreetpractice.nhs.uk/event/social-hub-we-connect-communities-hub/2027-01-28/
LOCATION:Carers Centre\, Stepney Green\, 21 Brayford Square\, London\, E1 0SG
END:VEVENT
BEGIN:VEVENT
DTSTART;TZID=Europe/London:20270204T140000
DTEND;TZID=Europe/London:20270204T160000
DTSTAMP:20260421T165009
CREATED:20220929T143813Z
LAST-MODIFIED:20220929T143813Z
UID:11520-1801749600-1801756800@jubileestreetpractice.nhs.uk
SUMMARY:Social Hub (we connect communities hub)
DESCRIPTION:
URL:https://jubileestreetpractice.nhs.uk/event/social-hub-we-connect-communities-hub/2027-02-04/
LOCATION:Carers Centre\, Stepney Green\, 21 Brayford Square\, London\, E1 0SG
END:VEVENT
BEGIN:VEVENT
DTSTART;TZID=Europe/London:20270211T140000
DTEND;TZID=Europe/London:20270211T160000
DTSTAMP:20260421T165009
CREATED:20220929T143813Z
LAST-MODIFIED:20220929T143813Z
UID:11526-1802354400-1802361600@jubileestreetpractice.nhs.uk
SUMMARY:Social Hub (we connect communities hub)
DESCRIPTION:
URL:https://jubileestreetpractice.nhs.uk/event/social-hub-we-connect-communities-hub/2027-02-11/
LOCATION:Carers Centre\, Stepney Green\, 21 Brayford Square\, London\, E1 0SG
END:VEVENT
BEGIN:VEVENT
DTSTART;TZID=Europe/London:20270218T140000
DTEND;TZID=Europe/London:20270218T160000
DTSTAMP:20260421T165009
CREATED:20220929T143813Z
LAST-MODIFIED:20220929T143813Z
UID:11541-1802959200-1802966400@jubileestreetpractice.nhs.uk
SUMMARY:Social Hub (we connect communities hub)
DESCRIPTION:
URL:https://jubileestreetpractice.nhs.uk/event/social-hub-we-connect-communities-hub/2027-02-18/
LOCATION:Carers Centre\, Stepney Green\, 21 Brayford Square\, London\, E1 0SG
END:VEVENT
BEGIN:VEVENT
DTSTART;TZID=Europe/London:20270225T140000
DTEND;TZID=Europe/London:20270225T160000
DTSTAMP:20260421T165009
CREATED:20220929T143813Z
LAST-MODIFIED:20220929T143813Z
UID:11569-1803564000-1803571200@jubileestreetpractice.nhs.uk
SUMMARY:Social Hub (we connect communities hub)
DESCRIPTION:
URL:https://jubileestreetpractice.nhs.uk/event/social-hub-we-connect-communities-hub/2027-02-25/
LOCATION:Carers Centre\, Stepney Green\, 21 Brayford Square\, London\, E1 0SG
END:VEVENT
BEGIN:VEVENT
DTSTART;TZID=Europe/London:20270304T140000
DTEND;TZID=Europe/London:20270304T160000
DTSTAMP:20260421T165009
CREATED:20220929T143813Z
LAST-MODIFIED:20220929T143813Z
UID:11574-1804168800-1804176000@jubileestreetpractice.nhs.uk
SUMMARY:Social Hub (we connect communities hub)
DESCRIPTION:
URL:https://jubileestreetpractice.nhs.uk/event/social-hub-we-connect-communities-hub/2027-03-04/
LOCATION:Carers Centre\, Stepney Green\, 21 Brayford Square\, London\, E1 0SG
END:VEVENT
BEGIN:VEVENT
DTSTART;TZID=Europe/London:20270311T140000
DTEND;TZID=Europe/London:20270311T160000
DTSTAMP:20260421T165009
CREATED:20220929T143813Z
LAST-MODIFIED:20220929T143813Z
UID:11579-1804773600-1804780800@jubileestreetpractice.nhs.uk
SUMMARY:Social Hub (we connect communities hub)
DESCRIPTION:
URL:https://jubileestreetpractice.nhs.uk/event/social-hub-we-connect-communities-hub/2027-03-11/
LOCATION:Carers Centre\, Stepney Green\, 21 Brayford Square\, London\, E1 0SG
END:VEVENT
BEGIN:VEVENT
DTSTART;TZID=Europe/London:20270318T140000
DTEND;TZID=Europe/London:20270318T160000
DTSTAMP:20260421T165009
CREATED:20220929T143813Z
LAST-MODIFIED:20220929T143813Z
UID:11581-1805378400-1805385600@jubileestreetpractice.nhs.uk
SUMMARY:Social Hub (we connect communities hub)
DESCRIPTION:
URL:https://jubileestreetpractice.nhs.uk/event/social-hub-we-connect-communities-hub/2027-03-18/
LOCATION:Carers Centre\, Stepney Green\, 21 Brayford Square\, London\, E1 0SG
END:VEVENT
BEGIN:VEVENT
DTSTART;TZID=Europe/London:20270325T140000
DTEND;TZID=Europe/London:20270325T160000
DTSTAMP:20260421T165009
CREATED:20220929T143813Z
LAST-MODIFIED:20220929T143813Z
UID:11586-1805983200-1805990400@jubileestreetpractice.nhs.uk
SUMMARY:Social Hub (we connect communities hub)
DESCRIPTION:
URL:https://jubileestreetpractice.nhs.uk/event/social-hub-we-connect-communities-hub/2027-03-25/
LOCATION:Carers Centre\, Stepney Green\, 21 Brayford Square\, London\, E1 0SG
END:VEVENT
BEGIN:VEVENT
DTSTART;TZID=Europe/London:20270401T140000
DTEND;TZID=Europe/London:20270401T160000
DTSTAMP:20260421T165009
CREATED:20220929T143813Z
LAST-MODIFIED:20220929T143813Z
UID:11590-1806588000-1806595200@jubileestreetpractice.nhs.uk
SUMMARY:Social Hub (we connect communities hub)
DESCRIPTION:
URL:https://jubileestreetpractice.nhs.uk/event/social-hub-we-connect-communities-hub/2027-04-01/
LOCATION:Carers Centre\, Stepney Green\, 21 Brayford Square\, London\, E1 0SG
END:VEVENT
BEGIN:VEVENT
DTSTART;TZID=Europe/London:20270408T140000
DTEND;TZID=Europe/London:20270408T160000
DTSTAMP:20260421T165009
CREATED:20220929T143813Z
LAST-MODIFIED:20220929T143813Z
UID:11610-1807192800-1807200000@jubileestreetpractice.nhs.uk
SUMMARY:Social Hub (we connect communities hub)
DESCRIPTION:
URL:https://jubileestreetpractice.nhs.uk/event/social-hub-we-connect-communities-hub/2027-04-08/
LOCATION:Carers Centre\, Stepney Green\, 21 Brayford Square\, London\, E1 0SG
END:VEVENT
BEGIN:VEVENT
DTSTART;TZID=Europe/London:20270415T140000
DTEND;TZID=Europe/London:20270415T160000
DTSTAMP:20260421T165009
CREATED:20220929T143813Z
LAST-MODIFIED:20220929T143813Z
UID:11613-1807797600-1807804800@jubileestreetpractice.nhs.uk
SUMMARY:Social Hub (we connect communities hub)
DESCRIPTION:
URL:https://jubileestreetpractice.nhs.uk/event/social-hub-we-connect-communities-hub/2027-04-15/
LOCATION:Carers Centre\, Stepney Green\, 21 Brayford Square\, London\, E1 0SG
END:VEVENT
BEGIN:VEVENT
DTSTART;TZID=Europe/London:20270422T140000
DTEND;TZID=Europe/London:20270422T160000
DTSTAMP:20260421T165009
CREATED:20220929T143813Z
LAST-MODIFIED:20220929T143813Z
UID:11619-1808402400-1808409600@jubileestreetpractice.nhs.uk
SUMMARY:Social Hub (we connect communities hub)
DESCRIPTION:
URL:https://jubileestreetpractice.nhs.uk/event/social-hub-we-connect-communities-hub/2027-04-22/
LOCATION:Carers Centre\, Stepney Green\, 21 Brayford Square\, London\, E1 0SG
END:VEVENT
BEGIN:VEVENT
DTSTART;TZID=Europe/London:20270429T140000
DTEND;TZID=Europe/London:20270429T160000
DTSTAMP:20260421T165009
CREATED:20220929T143813Z
LAST-MODIFIED:20220929T143813Z
UID:11628-1809007200-1809014400@jubileestreetpractice.nhs.uk
SUMMARY:Social Hub (we connect communities hub)
DESCRIPTION:
URL:https://jubileestreetpractice.nhs.uk/event/social-hub-we-connect-communities-hub/2027-04-29/
LOCATION:Carers Centre\, Stepney Green\, 21 Brayford Square\, London\, E1 0SG
END:VEVENT
END:VCALENDAR