BEGIN:VCALENDAR
VERSION:2.0
PRODID:-//Jubilee Street Practice - ECPv6.5.1.6//NONSGML v1.0//EN
CALSCALE:GREGORIAN
METHOD:PUBLISH
X-WR-CALNAME:Jubilee Street Practice
X-ORIGINAL-URL:https://jubileestreetpractice.nhs.uk
X-WR-CALDESC:Events for Jubilee Street Practice
REFRESH-INTERVAL;VALUE=DURATION:PT1H
X-Robots-Tag:noindex
X-PUBLISHED-TTL:PT1H
BEGIN:VTIMEZONE
TZID:Europe/London
BEGIN:DAYLIGHT
TZOFFSETFROM:+0000
TZOFFSETTO:+0100
TZNAME:BST
DTSTART:20280326T010000
END:DAYLIGHT
BEGIN:STANDARD
TZOFFSETFROM:+0100
TZOFFSETTO:+0000
TZNAME:GMT
DTSTART:20281029T010000
END:STANDARD
END:VTIMEZONE
BEGIN:VEVENT
DTSTART;TZID=Europe/London:20280224T140000
DTEND;TZID=Europe/London:20280224T160000
DTSTAMP:20260422T030407
CREATED:20220929T143813Z
LAST-MODIFIED:20220929T143813Z
UID:12061-1835013600-1835020800@jubileestreetpractice.nhs.uk
SUMMARY:Social Hub (we connect communities hub)
DESCRIPTION:
URL:https://jubileestreetpractice.nhs.uk/event/social-hub-we-connect-communities-hub/2028-02-24/
LOCATION:Carers Centre\, Stepney Green\, 21 Brayford Square\, London\, E1 0SG
END:VEVENT
BEGIN:VEVENT
DTSTART;TZID=Europe/London:20280302T140000
DTEND;TZID=Europe/London:20280302T160000
DTSTAMP:20260422T030407
CREATED:20220929T143813Z
LAST-MODIFIED:20220929T143813Z
UID:12066-1835618400-1835625600@jubileestreetpractice.nhs.uk
SUMMARY:Social Hub (we connect communities hub)
DESCRIPTION:
URL:https://jubileestreetpractice.nhs.uk/event/social-hub-we-connect-communities-hub/2028-03-02/
LOCATION:Carers Centre\, Stepney Green\, 21 Brayford Square\, London\, E1 0SG
END:VEVENT
BEGIN:VEVENT
DTSTART;TZID=Europe/London:20280309T140000
DTEND;TZID=Europe/London:20280309T160000
DTSTAMP:20260422T030407
CREATED:20220929T143813Z
LAST-MODIFIED:20220929T143813Z
UID:12075-1836223200-1836230400@jubileestreetpractice.nhs.uk
SUMMARY:Social Hub (we connect communities hub)
DESCRIPTION:
URL:https://jubileestreetpractice.nhs.uk/event/social-hub-we-connect-communities-hub/2028-03-09/
LOCATION:Carers Centre\, Stepney Green\, 21 Brayford Square\, London\, E1 0SG
END:VEVENT
BEGIN:VEVENT
DTSTART;TZID=Europe/London:20280316T140000
DTEND;TZID=Europe/London:20280316T160000
DTSTAMP:20260422T030407
CREATED:20220929T143813Z
LAST-MODIFIED:20220929T143813Z
UID:12082-1836828000-1836835200@jubileestreetpractice.nhs.uk
SUMMARY:Social Hub (we connect communities hub)
DESCRIPTION:
URL:https://jubileestreetpractice.nhs.uk/event/social-hub-we-connect-communities-hub/2028-03-16/
LOCATION:Carers Centre\, Stepney Green\, 21 Brayford Square\, London\, E1 0SG
END:VEVENT
BEGIN:VEVENT
DTSTART;TZID=Europe/London:20280323T140000
DTEND;TZID=Europe/London:20280323T160000
DTSTAMP:20260422T030407
CREATED:20220929T143813Z
LAST-MODIFIED:20220929T143813Z
UID:12090-1837432800-1837440000@jubileestreetpractice.nhs.uk
SUMMARY:Social Hub (we connect communities hub)
DESCRIPTION:
URL:https://jubileestreetpractice.nhs.uk/event/social-hub-we-connect-communities-hub/2028-03-23/
LOCATION:Carers Centre\, Stepney Green\, 21 Brayford Square\, London\, E1 0SG
END:VEVENT
BEGIN:VEVENT
DTSTART;TZID=Europe/London:20280330T140000
DTEND;TZID=Europe/London:20280330T160000
DTSTAMP:20260422T030407
CREATED:20220929T143813Z
LAST-MODIFIED:20220929T143813Z
UID:12102-1838037600-1838044800@jubileestreetpractice.nhs.uk
SUMMARY:Social Hub (we connect communities hub)
DESCRIPTION:
URL:https://jubileestreetpractice.nhs.uk/event/social-hub-we-connect-communities-hub/2028-03-30/
LOCATION:Carers Centre\, Stepney Green\, 21 Brayford Square\, London\, E1 0SG
END:VEVENT
BEGIN:VEVENT
DTSTART;TZID=Europe/London:20280406T140000
DTEND;TZID=Europe/London:20280406T160000
DTSTAMP:20260422T030407
CREATED:20220929T143813Z
LAST-MODIFIED:20220929T143813Z
UID:12104-1838642400-1838649600@jubileestreetpractice.nhs.uk
SUMMARY:Social Hub (we connect communities hub)
DESCRIPTION:
URL:https://jubileestreetpractice.nhs.uk/event/social-hub-we-connect-communities-hub/2028-04-06/
LOCATION:Carers Centre\, Stepney Green\, 21 Brayford Square\, London\, E1 0SG
END:VEVENT
BEGIN:VEVENT
DTSTART;TZID=Europe/London:20280413T140000
DTEND;TZID=Europe/London:20280413T160000
DTSTAMP:20260422T030407
CREATED:20220929T143813Z
LAST-MODIFIED:20220929T143813Z
UID:12129-1839247200-1839254400@jubileestreetpractice.nhs.uk
SUMMARY:Social Hub (we connect communities hub)
DESCRIPTION:
URL:https://jubileestreetpractice.nhs.uk/event/social-hub-we-connect-communities-hub/2028-04-13/
LOCATION:Carers Centre\, Stepney Green\, 21 Brayford Square\, London\, E1 0SG
END:VEVENT
BEGIN:VEVENT
DTSTART;TZID=Europe/London:20280420T140000
DTEND;TZID=Europe/London:20280420T160000
DTSTAMP:20260422T030407
CREATED:20220929T143813Z
LAST-MODIFIED:20220929T143813Z
UID:12131-1839852000-1839859200@jubileestreetpractice.nhs.uk
SUMMARY:Social Hub (we connect communities hub)
DESCRIPTION:
URL:https://jubileestreetpractice.nhs.uk/event/social-hub-we-connect-communities-hub/2028-04-20/
LOCATION:Carers Centre\, Stepney Green\, 21 Brayford Square\, London\, E1 0SG
END:VEVENT
END:VCALENDAR